BEGIN:VCALENDAR
VERSION:2.0
PRODID:-//ArenaCX - ECPv6.15.17.1//NONSGML v1.0//EN
CALSCALE:GREGORIAN
METHOD:PUBLISH
X-WR-CALNAME:ArenaCX
X-ORIGINAL-URL:https://arenacx.com
X-WR-CALDESC:Events for ArenaCX
REFRESH-INTERVAL;VALUE=DURATION:PT1H
X-Robots-Tag:noindex
X-PUBLISHED-TTL:PT1H
BEGIN:VTIMEZONE
TZID:UTC
BEGIN:STANDARD
TZOFFSETFROM:+0000
TZOFFSETTO:+0000
TZNAME:UTC
DTSTART:20230101T000000
END:STANDARD
END:VTIMEZONE
BEGIN:VEVENT
DTSTART;VALUE=DATE:20240603
DTEND;VALUE=DATE:20240607
DTSTAMP:20260425T234545
CREATED:20231206T200431Z
LAST-MODIFIED:20231214T202502Z
UID:10000059-1717372800-1717718399@arenacx.com
SUMMARY:Customer Contact Week Las Vegas
DESCRIPTION:Elevate Your CX Strategy at the World’s #1 Customer Contact Event Series\nJoin world-class customer contact and CX leaders at the must-attend global event\, Customer Contact Week (CCW) 2024. Get ready to elevate your customer strategy with cutting-edge content\, expert insights\, and innovative solutions. \nOver 25 Years of Connecting CX Industry Leaders\nCustomer Contact Week is a premier platform for groundbreaking solutions\, innovative ideas\, and best practices essential for contact center and CX executives. \nThe CCW Expo is Your Gateway to Customer Contact Innovation\nImmerse yourself in cutting-edge customer contact strategies\, forge meaningful connections with top industry professionals\, and embark on a journey to discover the future of customer experience. Don’t wait! Register now and prepare to be inspired by the unparalleled opportunities at the world’s largest customer contact expo.
URL:https://arenacx.com/event/customer-contact-week-las-vegas/
LOCATION:Caesars Forum Las Vegas\, 3911 S Koval Ln\, Las Vegas\, NV\, 89109\, United States
CATEGORIES:Customer Experience
ATTACH;FMTTYPE=image/png:https://arenacx.com/wp-content/uploads/2023/11/Events-Bright-Green.png
END:VEVENT
BEGIN:VEVENT
DTSTART;VALUE=DATE:20240606
DTEND;VALUE=DATE:20240608
DTSTAMP:20260425T234545
CREATED:20231205T211409Z
LAST-MODIFIED:20231205T211409Z
UID:10000057-1717632000-1717804799@arenacx.com
SUMMARY:DigiMarCon Great Lakes
DESCRIPTION:DigiMarCon Great Lakes 2024 is your chance to …\n\n\nHear from some of the most audacious and thought-provoking speakers in the digital marketing\, media and advertising industry.\nGain insight into emerging strategies\, the latest innovative technologies\, and best practices to move your business to the next level.\nNetwork with thought leaders\, collaborate with your peers and build your professional network.\n\n\n\nDigiMarCon Great Lakes\, the Premier Digital Marketing\, Media and Advertising Conference in the Great Lakes Region returns June 6th to 7th\, 2024 to the luxurious Westin Book Cadillac Detroit Hotel in Detroit\, Michigan. Join your peers in-person or online for 2 days jam packed with digital marketing best practices\, latest trends\, practical solutions\, strategy and networking.\n\nBe a part of DigiMarCon Great Lakes 2024 and discover how to thrive and succeed as a marketer in a rapidly evolving digital world. Top keynotes\, case studies\, strategy sessions\, networking and more! See why people keep coming back year after year to this must-attend event! Register and secure your seat today. \n\nThis year’s edition will feature topics such as:\n\n\n\nAccount-Based Marketing\nBehavioral & Neuromarketing\nContent Marketing\nConversational Marketing\nConversion Rate Optimization\nData Science & Big Data\nEmail Marketing\nGeo-Targeting & Proximity Marketing\n\n\n\n\nGrowth Hacking\nInbound & Outbound Marketing\nInfluencer Marketing\nMobile Marketing\nNative & Contextual Advertising\nOmnichannel Marketing\nPaid Search Marketing\nPersonalization & Privacy\n\n\n\n\nPodcast & Webinar Marketing\nPR & Cause Marketing\nPredictive Analytics & Attribution\nProgrammatic Advertising\nSales & Marketing Automation\nSearch Engine Optimization\nShopper Marketing\nSmarketing & Customer Experience\n\n\n\n\nSocial Commerce\nSocial Media Marketing\nUI / UX Design\nUser-Generated Content\nVideo Marketing\nViral & Buzz Marketing\nVisual & Voice Search\nWeb Analytics
URL:https://arenacx.com/event/digimarcon-great-lakes/
LOCATION:The Westin Book Cadilac Detroit Hotel\, 1114 Washington Blvd\, Detroit\, MI\, 48226\, United States
CATEGORIES:Marketing
ATTACH;FMTTYPE=image/png:https://arenacx.com/wp-content/uploads/2023/12/detroit.png
ORGANIZER;CN="DigiMarCon":MAILTO:info@digimarcon.com
END:VEVENT
END:VCALENDAR