BEGIN:VCALENDAR
VERSION:2.0
PRODID:-//ArenaCX - ECPv6.15.17.1//NONSGML v1.0//EN
CALSCALE:GREGORIAN
METHOD:PUBLISH
X-ORIGINAL-URL:https://arenacx.com
X-WR-CALDESC:Events for ArenaCX
REFRESH-INTERVAL;VALUE=DURATION:PT1H
X-Robots-Tag:noindex
X-PUBLISHED-TTL:PT1H
BEGIN:VTIMEZONE
TZID:UTC
BEGIN:STANDARD
TZOFFSETFROM:+0000
TZOFFSETTO:+0000
TZNAME:UTC
DTSTART:20230101T000000
END:STANDARD
END:VTIMEZONE
BEGIN:VEVENT
DTSTART;VALUE=DATE:20241020
DTEND;VALUE=DATE:20241024
DTSTAMP:20260424T044255
CREATED:20231125T194616Z
LAST-MODIFIED:20231214T201609Z
UID:10000019-1729382400-1729727999@arenacx.com
SUMMARY:Executing Your Transformation Roadmap
DESCRIPTION:
URL:https://arenacx.com/event/executing-your-transformation-roadmap/
LOCATION:Executing Your Transformation Roadmap\, 3800 W Starr Pass Blvd\, Tucson\, AZ\, 85745\, United States
CATEGORIES:Customer Experience
ATTACH;FMTTYPE=image/png:https://arenacx.com/wp-content/uploads/2023/11/Events-Bright-Green.png
ORGANIZER;CN="Frost & Sullivan":MAILTO:events.us@frost.com
END:VEVENT
END:VCALENDAR