BEGIN:VCALENDAR
VERSION:2.0
PRODID:-//ArenaCX - ECPv6.15.17.1//NONSGML v1.0//EN
CALSCALE:GREGORIAN
METHOD:PUBLISH
X-WR-CALNAME:ArenaCX
X-ORIGINAL-URL:https://arenacx.com
X-WR-CALDESC:Events for ArenaCX
REFRESH-INTERVAL;VALUE=DURATION:PT1H
X-Robots-Tag:noindex
X-PUBLISHED-TTL:PT1H
BEGIN:VTIMEZONE
TZID:UTC
BEGIN:STANDARD
TZOFFSETFROM:+0000
TZOFFSETTO:+0000
TZNAME:UTC
DTSTART:20230101T000000
END:STANDARD
END:VTIMEZONE
BEGIN:VEVENT
DTSTART;VALUE=DATE:20240201
DTEND;VALUE=DATE:20240301
DTSTAMP:20260425T182914
CREATED:20231126T221645Z
LAST-MODIFIED:20231214T204017Z
UID:10000026-1706745600-1709251199@arenacx.com
SUMMARY:CX+ Summit
DESCRIPTION:Every year\, one of India’s leading marketing industry news brands\, Brand Equity\, attracts marketing\, customer experience\, contact center\, and digital executives from companies like Allianz\, Deloitte\, Google Cloud\, and Salesforce to take part in informative discussions about the latest customer experience trends\, CX case studies\, and how market leaders are leveraging data and technology to build better experiences.
URL:https://arenacx.com/event/cx-summit/
LOCATION:CO
CATEGORIES:Customer Experience
ATTACH;FMTTYPE=image/png:https://arenacx.com/wp-content/uploads/2023/11/Events-Orange-1.png
ORGANIZER;CN="ETBrandEquity":MAILTO:contactus@etbrandequity.com
END:VEVENT
BEGIN:VEVENT
DTSTART;VALUE=DATE:20240208
DTEND;VALUE=DATE:20240209
DTSTAMP:20260425T182914
CREATED:20231126T213403Z
LAST-MODIFIED:20231214T203729Z
UID:10000023-1707350400-1707436799@arenacx.com
SUMMARY:FUTURE OF CUSTOMER CONTACT CONFERENCE
DESCRIPTION:The contact center is evolving faster than most companies can keep up. At the one-day Future of the Contact Center\, attendees will get insights into how to build better experiences for customers with the latest customer contact strategies. The event’s 30 presentations include best practices for using data and AI\, a refresher on the metrics that matter the most now\, and expert guidance on improving customer retention.
URL:https://arenacx.com/event/future-of-customer-contact-conference/
LOCATION:THE BREWERY\, 52 Chiswell Street\, London\, EC1Y 4SD\, United Kingdom
CATEGORIES:Customer Experience
ATTACH;FMTTYPE=image/png:https://arenacx.com/wp-content/uploads/2023/11/Events-Black.png
END:VEVENT
END:VCALENDAR