BEGIN:VCALENDAR
VERSION:2.0
PRODID:-//ArenaCX - ECPv6.15.17.1//NONSGML v1.0//EN
CALSCALE:GREGORIAN
METHOD:PUBLISH
X-ORIGINAL-URL:https://arenacx.com
X-WR-CALDESC:Events for ArenaCX
REFRESH-INTERVAL;VALUE=DURATION:PT1H
X-Robots-Tag:noindex
X-PUBLISHED-TTL:PT1H
BEGIN:VTIMEZONE
TZID:UTC
BEGIN:STANDARD
TZOFFSETFROM:+0000
TZOFFSETTO:+0000
TZNAME:UTC
DTSTART:20230101T000000
END:STANDARD
END:VTIMEZONE
BEGIN:VEVENT
DTSTART;VALUE=DATE:20240709
DTEND;VALUE=DATE:20240711
DTSTAMP:20260423T210126
CREATED:20231208T201636Z
LAST-MODIFIED:20231208T201636Z
UID:10000074-1720483200-1720655999@arenacx.com
SUMMARY:All Access: Future Contact Centers 2024
DESCRIPTION:Contact centers must evolve to meet rising customer expectations and leverage technology to transform their operations. \nThe future of contact centers will be defined by those that embrace AI for efficiency\, remote\nwork for flexibility\, and omnichannel support for convenience. Striking a balance between\nautomation and human touch\, ensuring data security\, and promoting employee well-being\nwill be essential for success. \nThose who adapt to the changing contact center landscape will not only meet but exceed\ncustomer expectations in the digital era.\n\nJoin All Access: Future Contact Centers for thought-provoking discussions from industry\nexperts on how to create the next generation of contact centers.
URL:https://arenacx.com/event/all-access-future-contact-centers-2024/
LOCATION:CO
CATEGORIES:Customer Experience
ATTACH;FMTTYPE=image/png:https://arenacx.com/wp-content/uploads/2023/12/contact-center.png
END:VEVENT
END:VCALENDAR