BEGIN:VCALENDAR
VERSION:2.0
PRODID:-//ArenaCX - ECPv6.15.17.1//NONSGML v1.0//EN
CALSCALE:GREGORIAN
METHOD:PUBLISH
X-WR-CALNAME:ArenaCX
X-ORIGINAL-URL:https://arenacx.com
X-WR-CALDESC:Events for ArenaCX
REFRESH-INTERVAL;VALUE=DURATION:PT1H
X-Robots-Tag:noindex
X-PUBLISHED-TTL:PT1H
BEGIN:VTIMEZONE
TZID:UTC
BEGIN:STANDARD
TZOFFSETFROM:+0000
TZOFFSETTO:+0000
TZNAME:UTC
DTSTART:20230101T000000
END:STANDARD
END:VTIMEZONE
BEGIN:VEVENT
DTSTART;VALUE=DATE:20240909
DTEND;VALUE=DATE:20240913
DTSTAMP:20260419T164616
CREATED:20231209T143212Z
LAST-MODIFIED:20231209T143212Z
UID:10000085-1725840000-1726185599@arenacx.com
SUMMARY:Technology Forum North America
DESCRIPTION:Revolutionize Your Growth Strategy With The Latest Tech\, Data And AI.\n\n\n\n\nNew For 2024: Our Technology Forum\nForrester is pleased to launch a brand-new event in our portfolio: the Technology Forum 2024. It brings the best of our tech and data events into one supercharged event to help you enable an insights-driven business and capture\, transform\, and deliver insights from data at scale with AI. \nWhy the change? Because you can only achieve business success when tech and data teams are aligned on growth and opportunity. This is Forrester’s premier technology event for fostering innovation and driving growth from data\, AI\, technology infrastructure\, and software. Tech professionals\, data and analytics leaders\, entrepreneurs\, industry leaders\, and analysts will gather to exchange ideas\, highlight cutting-edge innovations\, and discuss the latest models\, practices\, and strategies they use to fuel growth with alignment. \nBy bringing together cutting-edge technology and data intelligence\, we’re providing you with the knowledge to not only stay ahead of the game but also completely command your tech alignment and business outcomes. There’s no better opportunity to propel your cross-functional learning journey and inspire you to make an even bigger impact with data and technology. \nTake your place alongside tech\, data\, and business leaders who want to:\n\nImprove business growth\, revenue\, and performance.\nLeverage the power of data\, AI\, and technology tools.\nStrategize\, innovate\, and operationalize a tech- and insights-driven agenda.\n\n\n\n\n\n\n\n\n\n\nEasier Access To More. Trusted. Analyst. Insight.\n\nAccess unbiased Forrester research\, tools\, and methodologies to further your tech and data expertise with an eye toward business growth and revenue. Seize the opportunity to leverage the ever-evolving world of AI\, cloud\, and data to speed outcomes and capture market opportunity with objective insights. \nSpeakers: Our keynote speakers\, carefully selected for their trailblazing expertise\, will ignite your entrepreneurial spirit and challenge your paradigm of what’s possible. \nAnalysts: Meet with Forrester’s analysts to align your tech and data assumptions with reality. Get your questions answered and stay informed on the latest developments. \nAgenda: Build new skills in a converged four-day technology and data agenda with 70+ sessions\, workshops\, keynotes\, case studies\, and specialized tracks to aid in targeted learning. \nMarketplace: Evaluate innovative solutions among technology providers who offer best-in-class products to help you bridge gaps in your tech stack. \nTracks: Choose from sessions in leadership\, future-proofing\, innovation\, customer-obsessed growth\, insights\, AI\, and emerging tech. \nGet ready to witness a revolutionary event that will transform your understanding of tech and data research\, insights\, and opportunity in the most captivating way possible.
URL:https://arenacx.com/event/technology-forum-north-america/
LOCATION:British Columbia
CATEGORIES:Customer Experience
ATTACH;FMTTYPE=image/png:https://arenacx.com/wp-content/uploads/2023/12/image-1.png
ORGANIZER;CN="Forrester":MAILTO:events@forrester.com.
END:VEVENT
BEGIN:VEVENT
DTSTART;VALUE=DATE:20240910
DTEND;VALUE=DATE:20240912
DTSTAMP:20260419T164616
CREATED:20231208T204411Z
LAST-MODIFIED:20231208T204411Z
UID:10000078-1725926400-1726099199@arenacx.com
SUMMARY:All Access: Customer Insights & Data Analytics 2024
DESCRIPTION:Amid growing customer expectations and budget pressures in uncertain economic times\, customer insights and data analytics are becoming increasingly vital. They help create personalized experiences that delight customers and prove the value of CX initiatives on the bottom line.\n\nJoin All Access: Customer Insights & Data Analytics to learn the insights and strategies required to make informed decisions and deliver exceptional customer experiences\, ultimately fostering business growth and success.
URL:https://arenacx.com/event/all-access-customer-insights-data-analytics-2024/
LOCATION:British Columbia
CATEGORIES:Customer Experience
ATTACH;FMTTYPE=image/png:https://arenacx.com/wp-content/uploads/2023/12/data-analytics.png
END:VEVENT
BEGIN:VEVENT
DTSTART;VALUE=DATE:20240911
DTEND;VALUE=DATE:20240913
DTSTAMP:20260419T164616
CREATED:20231209T220458Z
LAST-MODIFIED:20231209T220458Z
UID:10000098-1726012800-1726185599@arenacx.com
SUMMARY:CX Retail USA Exchange
DESCRIPTION:Customer Excellence In The Experiential & Hybrid Era Of Retail\n\n\nJoin fellow CX leaders from some of the USA’s biggest brands\, for this year’s CX Retail Exchange.\n\n\nAmidst an increasingly volatile and unpredictable retail environment\, leaders in the space are finding innovative new ways to adapt and drive their brands forwards whilst maintaining strong CX at their core! From streamlining operations in a tightening economy\, to meeting new shopping expectations in the post-COVID era; from driving strong employee experience\, to leveraging new advancements in technology and data analytics– now is the time to come together and share their innovative strategies and solutions from the cutting edge of retail.\n 
URL:https://arenacx.com/event/cx-retail-usa-exchange/
LOCATION:British Columbia
CATEGORIES:Customer Experience
ATTACH;FMTTYPE=image/png:https://arenacx.com/wp-content/uploads/2023/12/cx-retail-usa.png
END:VEVENT
END:VCALENDAR