BEGIN:VCALENDAR
VERSION:2.0
PRODID:-//ArenaCX - ECPv6.15.17.1//NONSGML v1.0//EN
CALSCALE:GREGORIAN
METHOD:PUBLISH
X-ORIGINAL-URL:https://arenacx.com
X-WR-CALDESC:Events for ArenaCX
REFRESH-INTERVAL;VALUE=DURATION:PT1H
X-Robots-Tag:noindex
X-PUBLISHED-TTL:PT1H
BEGIN:VTIMEZONE
TZID:UTC
BEGIN:STANDARD
TZOFFSETFROM:+0000
TZOFFSETTO:+0000
TZNAME:UTC
DTSTART:20230101T000000
END:STANDARD
END:VTIMEZONE
BEGIN:VEVENT
DTSTART;VALUE=DATE:20240918
DTEND;VALUE=DATE:20240920
DTSTAMP:20260422T184546
CREATED:20231209T211745Z
LAST-MODIFIED:20231214T201801Z
UID:10000128-1726617600-1726790399@arenacx.com
SUMMARY:The Customer Show Sydney
DESCRIPTION:Unlock the Potential of Your Customer Experience Strategy at The Customer Show in Sydney!\n\n\nWelcome to The Customer Show. Our mission is simple – to inspire and empower businesses to deliver exceptional customer experiences by sharing knowledge\, insights and best practices from over 80 leading experts in the field. \nAt The Customer Show\, you will gain a competitive edge by discovering the latest trends\, technologies and strategies that are transforming the customer experience landscape. This is the biggest chance to learn\, network and benchmark at scale!
URL:https://arenacx.com/event/the-customer-show-sydney/
LOCATION:International Convention Centre\, 14 Darling Dr\, Sydney\, New South Wales\, 2000\, Australia
CATEGORIES:Customer Experience
ATTACH;FMTTYPE=image/png:https://arenacx.com/wp-content/uploads/2023/12/Events-Light-Orange.png
ORGANIZER;CN="IQPC Australia":MAILTO:consultation@iqpcaustralia.com.au
END:VEVENT
END:VCALENDAR